BEGIN:VCALENDAR
CALSCALE:GREGORIAN
METHOD:PUBLISH
VERSION:2.0
PRODID:-//iCalWriter OpenSource Project//iCalWriter 0.8.1//EN
BEGIN:VEVENT
DTSTAMP:20260423T122205Z
UID:1776946925keVM@vois-vgr.de
DTSTART:20260506T181500
DTEND:20260506T200000
SUMMARY:Gastvortrag Franziska Wenig "Ein ‘Kästchen mit bemalten Elfenbeinplatten’ - Das Merseburger Elfenbeinkästchen vor dem Hintergrund aktueller Forschung.“
DESCRIPTION:Hiermit laden wir Sie herzlich ein zum Gastvortrag von:
Franziksa Wenig (Heidelberg)
zum Thema: „Ein ‘Kästchen mit bemalten Elfenbeinplatten’ – Das Merseburger Elfenbeinkästchen vor dem Hintergrund aktueller Forschung.“
am Mittwoch den 06. Mai 2026 | 18:15 Uhrim ERZ, Domplatz 7, 06217 Merseburg
Sollten Sie online teilnehmen wollen, melden Sie sich bitte hier an. Nach der Registrierung erhalten Sie eine Bestätigungs-E-Mail mit Informationen über die Teilnahme an der Videokonferenz.
Wir freuen uns über Ihre Teilnahme!
LOCATION:Europäisches Romanik Zentrum 06217 Merseburg
CATEGORIES:
URL:https://www.gemeinde-schkopau.de/de/veranstaltungen/event/28977,42/gastvortrag-franziska-wenig-ein-kaestchen-mit-bemalten-elfenbeinplatten---das-merseburger-elfenbeinkaestchen-vor-dem-hintergrund-aktueller-forschung-06-05-2026.html
ATTACH:https://www.gemeinde-schkopau.de/de/datei/anzeigen/id/28978,42/plakat_-_vortragwenig.jpg
END:VEVENT
END:VCALENDAR
