BEGIN:VCALENDAR
CALSCALE:GREGORIAN
METHOD:PUBLISH
VERSION:2.0
PRODID:-//iCalWriter OpenSource Project//iCalWriter 0.8.1//EN
BEGIN:VEVENT
DTSTAMP:20260421T122544Z
UID:1776774344d8rl@vois-vgr.de
DTSTART:20260509T170000
DTEND;VALUE=DATE:20260509
SUMMARY:Willkommen und Abschied zum 26. Nordsächsischen Chorfestival
DESCRIPTION:Seit dem Jahre 2000 lädt der Chor Arion Glesien Chöre aus Nordsachsen und weit darüber hinaus zum Festival nach Glesien und Radefeld. Über 50 verschiedene Ensembles präsentierten in den letzten 25 Jahren Konzerte, die ihresgleichen in der Kulturlandschaft Sachsen suchen.
Am 09.05.2026 wird es das Chorfestival zum letzten Mal in dieser Form geben! Seien Sie herzlich eingeladen, 6 Chöre in einem großen Festkonzert zu erleben! Beginn ist um 17:00 Uhr in der Kultur- und Festhalle Radefeld. Einlass ab 15:30 Uhr. Für Ihr leibliches Wohl wird gesorgt sein.
Direkt im Anschluss findet an selber Stelle die 5. und wahrscheinlich letzte Radefelder Tanznacht statt. Marco Dehm vom Tanztempel Schkeuditz sorgt für Musik jeder Taktart.
Der Eintritt zu Konzert und Tanznacht ist frei!
LOCATION:Sport- & Festhalle Radefeld 04435 Schkeuditz OT Radefeld
Chor Arion Glesien e.V. 04435 Schkeuditz
CATEGORIES:
URL:https://www.gemeinde-schkopau.de/de/veranstaltungen/event/28981,42/willkommen-und-abschied-zum-26-nordsaechsischen-chorfestival-09-05-2026.html
ATTACH:https://www.gemeinde-schkopau.de/de/datei/anzeigen/id/28982,42/flyer_26_vorderseite_chor.png
END:VEVENT
END:VCALENDAR
